BEGIN:VCALENDAR
VERSION:2.0
PRODID:-//Library Market//iCal Export//EN
BEGIN:VEVENT
SUMMARY:Weekend Wonder | Stained Glass Pasta Mosaic
UID:24025
DTSTAMP:20260425T204100Z
DTSTART:20260620T150000Z
DTEND:20260620T160000Z
LOCATION:45 Second St. East, Cornwall ON K6H 5V1, Canada
ROOM: Chess Set Area
DESCRIPTION:Weekend Wonder | Stained Glass Pasta MosaicDesign a colourful
  stained glass-like mosaic using dyed pasta pieces. Arrange shapes and p
 atterns to create a textured work of art to display at home. 
URL:https://www.library.cornwall.on.ca/event/weekend-wonder-stained-glass-
 pasta-mosaic-24025?language_content_entity=fr
END:VEVENT
END:VCALENDAR
