BEGIN:VCALENDAR
VERSION:2.0
PRODID:-//Library Market//iCal Export//EN
BEGIN:VEVENT
SUMMARY:Weekend Wonder | Galaxy Balloon Stamping
UID:24024
DTSTAMP:20260425T204100Z
DTSTART:20260606T150000Z
DTEND:20260606T160000Z
LOCATION:45 Second St. East, Cornwall ON K6H 5V1, Canada
ROOM: Chess Set Area
DESCRIPTION:Weekend Wonder | Galaxy Balloon StampingLaunch into a galaxy o
 f creativity! This activity uses balloons as &quot;space stamps&quot; to c
 reate vibrant, marbled planets. Kids of all ages can experiment with colou
 r and texture to design a one-of-a-kind solar system on paper. 
URL:https://www.library.cornwall.on.ca/event/weekend-wonder-galaxy-balloon
 -stamping-24024?language_content_entity=en
END:VEVENT
END:VCALENDAR
