BEGIN:VCALENDAR
VERSION:2.0
PRODID:-//Library Market//iCal Export//EN
BEGIN:VEVENT
SUMMARY:Weekend Wonder | Paper Cup Pinwheels
UID:24023
DTSTAMP:20260425T204100Z
DTSTART:20260523T150000Z
DTEND:20260523T160000Z
LOCATION:45 Second St. East, Cornwall ON K6H 5V1, Canada
ROOM: Chess Set Area
DESCRIPTION:Weekend Wonder | Paper Cup PinwheelsWhirl, spin, and play! Tur
 n a simple paper cup into a colourful pinwheel that twirls in the breeze
  - an easy, hands-on craft full of movement and creativity.   
URL:https://www.library.cornwall.on.ca/event/weekend-wonder-paper-cup-pinw
 heels-24023?language_content_entity=en
END:VEVENT
END:VCALENDAR
