BEGIN:VCALENDAR
VERSION:2.0
PRODID:-//Library Market//iCal Export//EN
BEGIN:VEVENT
SUMMARY:R.A.R.E. Event (Roving Antique and Relics Exhibition)
UID:23311
DTSTAMP:20260421T222500Z
DTSTART:20260502T140000Z
DTEND:20260502T200000Z
LOCATION:45 Second St. East, Cornwall ON K6H 5V1, Canada
ROOM: Combined Programming Room No. 1 and 2
DESCRIPTION:R.A.R.E. Event (Roving Antique and Relics Exhibition) Over 10
 0 Historic Items on Display in the Hubsher Gallery!Admission is free; howe
 ver, if you wish to support the continuation of this exhibition, donations
  will be graciously accepted during your visit.      
URL:https://www.library.cornwall.on.ca/event/antique-items-presentation-23
 311?language_content_entity=fr
END:VEVENT
END:VCALENDAR
