BEGIN:VCALENDAR
VERSION:2.0
PRODID:-//Library Market//iCal Export//EN
BEGIN:VEVENT
SUMMARY:CAPE
UID:22951
DTSTAMP:20260424T003300Z
DTSTART:20260425T140000Z
DTEND:20260425T220000Z
LOCATION:
DESCRIPTION:Ready to level up your weekend?Swing by the library’s booth 
 at the Cornwall and Area Pop Event and discover a world where fandom meets
  imagination. Whether you&#039;re into comics, games, movies, or just curi
 ous, this is definitely something worth pausing your quest for. Saturday,
  April 25, 10:00 a.m. - 6:00 p.m.Sunday, April 26, 10:00 a.m. - 5:00 p.m.A
 t the Benson Centre Stop scrolling. Start exploring. See you there. Pass
 ez nous voir au stand de la bibliothèque lors du Cornwall and Area Pop Ev
 ent et découvrez un univers où la culture geek rencontre l&#039;imaginai
 re. Que vous soyez fan de BD, de jeux, de cinéma ou simplement curieux, n
 ous avons de quoi vous donner envie de faire une pause dans vos activités
 . Samedi 25 avril, de 10 h à 18 hDimache 26 avril, de 10 h à 17 hAu Cen
 tre Benson Arrêtez de faire défiler. Commencez à explorer. On vous att
 end sur place. 
URL:https://www.library.cornwall.on.ca/event/cape-outreach-22951
END:VEVENT
END:VCALENDAR
